Workbook
Name データサイエンス・経営学部: 《参考》!$B$3:$B$6
Name 学部: 《参考》!$B$2:$G$2
Name 共同教育学部: 《参考》!$E$3:$E$6
Name 工学部: 《参考》!$F$3
Name 国際学部: 《参考》!$D$3
Name 地域ﾃﾞｻﾞｲﾝ科学部: 《参考》!$C$3:$C$5
Name 農学部: 《参考》!$G$3:$G$11

Sheet 参加申請書 (記入例)
B2: 令和8年度 海外英語研修 （マレーシア サラワク大学）
B3: 参 加 申 請 書
B4: Ⅰ．基本情報 | J4: 提出日： 令和8（2026）年10月15日
B5: ふりがな | E5: (氏) | F5: ｳﾀﾞｲ | J5: (名) | K5: ﾐﾈｺ
B6: 氏 名 | E6: (氏) | F6: 宇大 | J6: (名) | K6: 峰子
B7: 英語氏名 （パスポート表記） | E7: (氏) | F7: UDAI | J7: (名) | K7: MINEKO
B8: 生年月日【西暦】 例：2004/10/10 | F8: 38296 | J8: 出発時の年齢 | M8: =DATEDIF(F8,"2026/2/28","Y") -> 21 | N8: 性 別 | O8: F
B9: 所 属 | F9: 学 部 | L9: 学 科
F10: 国際学部 | L10: 国際学科
B11: 学籍番号 | F11: 201111A | I11: 学年 | K11: 2 | L11: TOEIC点数 | M11: 550 | N11: GPA | O11: 3.2
B12: 国 籍 | F12: 日本 | K12: パスポート有効期限 | M12: 47609
B13: 連 絡 先 （自宅） | F13: 住所： | G13: 宇都宮市陽東〇〇ー〇〇
F14: 携帯番号： | G14: 080-2222-2222
F15: メールアドレス ※重要な連絡などをメールで行います。必ず連絡の取れるアドレスを記入してください。
F16: PC： | G16: 201111A@a.utsunomiya-u.ac.jp
B17: Learning+1 履修登録の状況 | F17: ”Learning+1”グローバル人材育成プログラム履修登録科目数： （履修案内の「グローバル人材育成プログラム履修科目」別表１をご覧の上、履修した（もしくは履修している）科目数を記入してください。 ） | N17: 5
B19: Ⅱ．Ⅱ．志望理由について （以下の質問を含め、わかりやすく記入すること。） ①自覚している性格と他人から言われる性格 ②英語研修に参加する目的（その目的のきっかけも含む） ③マレーシアの英語研修に参加する必要性 ④研修中に取り組みたいことと、そのために必要な準備 ⑤今後希望するキャリアについて
B20: 参加を希望した理由は・・・
B31: Ⅲ．以前外国語臨地演習（英語）／海外英語研修（オンライン研修も含め）を履修し、単位を修得したことはありますか？
B32: 単位修得の有無 | F32: 有 | H32: 「有」の場合に、参加した研修名と年度を右の欄に記載してください。 | L32: 令和7年度オーストリア英語研修
B33: Ⅳ．JASSO海外留学支援制度（協定派遣）の受給を希望しますか？（選考の上決定）
B34: 希望の有無 | F34: 有 | H34: ①今年度は14名の申請枠があります。（成績条件と家計基準を満たす学生は積極的に申請してください） ②JASSOの申請条件について、右側の注意書きにご確認ください。 ③事前研修から事後報告会まですべての研修に参加することが必須です。 ④コンソーシアムとちぎの奨学金・JASSO海外留学支援制度のいずれも受給していない場合は大学からの助成金の受給可能対象となります。 ⑤奨学金受給者は今後の説明会で体験談の発表や、国際交流などの活動にご協力をお願いする場合があります。予めご了承ください。
B35: Ⅳ．大学の助成金の受給を希望しますか？（選考の上決定）
B36: 希望の有無 | F36: 有 | H36: 希望者のうち、各学部の成績上位者2名に大学から70,000円を助成する予定です。 ただし、 ①コンソーシアムとちぎの奨学金受給者は対象外です。 ②同プログラムでJASSO海外留学支援制度（協定派遣）の奨学金と併給できません。 ③同じ年度に1回のみ助成金を受けられます。 ④事前研修から事後報告会まですべての研修に参加することが必須です。 ⑤受給者のGPAは必ず3.0以上が対象です。 ⑥助成金受給者は今後の説明会で体験談の発表や、国際交流などの活動にご協力をお願いする場合があります。予めご了承ください。
B38: 提出先：studytour@a.utsunomiya-u.ac.jp (留学生・国際交流室)
B39: 提出期限：令和8年10月26日(月) まで（必着）
B40: 問合せ先：留学生・国際交流室（峰キャンパス ４号館１階）
B41: 以下、提出物を確認し、チェックを入れてください。（提出されていないものにチェックをいれないでください）
B46: ※確認事項※
B47: ・申込む研修の内容を熟読し、理解しているか
B48: ・参加決定後や研修期間中の自己都合による研修中止は、原則認めないことを理解しているか
B49: ・参加決定後のキャンセルは、時期によって返金できないことを理解しているか

Sheet 参加申請書
A2: 令和8年度 海外英語研修 （マレーシア マレーシア・サラワク大学）
A3: 参 加 申 請 書
A4: Ⅰ．基本情報 | E4: 提出日： 令和8（2026）年10月 日
A5: ふりがな | D5: (氏) | I5: (名)
A6: 氏 名 | D6: (氏) | I6: (名)
A7: 英語氏名 （パスポート表記） | D7: (氏) | I7: (名)
A8: 生年月日【西暦】 例：2004/10/10 | I8: 出発時の年齢 | L8: =DATEDIF(E8,"2027/2/9","Y") -> 127 | M8: 性 別
A9: 所 属 | E9: 学 部 | K9: 学 科
E10: 農学部
A11: 学籍番号 | H11: 学年 | K11: TOEIC点数 | M11: GPA
A12: 国 籍 | J12: パスポート有効期限
A13: 連 絡 先 （自宅） | E13: 住所：
E14: 携帯番号：
E15: メールアドレス ※重要な連絡などをメールで行います。必ず海外研修中にも連絡の取れるアドレスを記入してください。
E16: PC：
A17: Learning+1 履修登録の状況 | E17: ”Learning+1”グローバル人材育成プログラム履修登録科目数： （履修案内の「グローバル人材育成プログラム履修科目」別表１をご覧の上、履修した（もしくは履修している）科目数を記入してください。 ）
A19: Ⅱ．志望理由について （以下の質問を含め、わかりやすく記入すること。） ①自覚している性格と他人から言われる性格 ②英語研修に参加する目的（その目的のきっかけも含む） ③マレーシアの英語研修に参加する必要性 ④研修中に取り組みたいことと、そのために必要な準備 ⑤今後希望するキャリアについて
A31: Ⅲ．以前外国語臨地演習（英語）／海外英語研修（オンライン研修含）を履修し、単位を修得したことはありますか？
A32: 単位修得の有無 | G32: 「有」の場合に、参加した研修名と年度を右の欄に記載してください。
A33: Ⅳ．JASSO海外留学支援制度（協定派遣）の受給を希望しますか？（選考の上決定）
A34: 希望の有無 | G34: ①今年度は10名の申請枠があります（成績条件を満たす学生は積極的に申請してください）。 ②JASSOの申請条件について、右側の注意書きをご確認ください。 ③事前研修から事後報告会まですべての研修に参加することが必須です。 ④大学コンソーシアムとちぎの奨学金・JASSO海外留学支援制度のいずれも受給していない場合は大学からの助成金の受給対象となります。 ⑤奨学金受給者は今後の説明会で体験談の発表や、国際交流などの活動にご協力をお願いする場合があります。予めご了承ください。
A35: Ⅳ．大学の3C助成金の受給を希望しますか？（選考の上決定）
A36: 希望の有無 | G36: 希望者のうち、各学部の成績上位者2～3名に大学から渡航費を助成する予定です。 ただし、 ①大学コンソーシアムとちぎの奨学金受給者は対象外です。 ②同プログラムでJASSO海外留学支援制度（協定派遣）の奨学金との併給はできません。 ③同じ年度に1回のみ助成金を受けられます。 ④事前研修から事後報告会まですべての研修に参加することが必須です。 ⑤GPA3.0以上の方が対象です。 ⑥助成金受給者は今後の説明会で体験談の発表や、国際交流などの活動にご協力をお願いする場合があります。予めご了承ください。
A38: 提出先：studytour@a.utsunomiya-u.ac.jp (留学生・国際交流室)
A39: 提出期限：令和8年10月26日(月) まで（必着）
A40: 問合せ先：留学生・国際交流室（峰キャンパス ４号館１階）
A41: 以下、提出物を確認し、チェックを入れてください。（未提出のものにはチェックを入れないでください）
A46: ※確認事項※
A47: ・申し込む研修の内容を熟読し、理解しているか
A48: ・参加決定後や研修期間中の自己都合による研修中止は、原則認めないことを理解しているか
A49: ・参加決定後のキャンセルは、時期によって返金できないことを理解しているか

Sheet 《参考》
B2: データサイエンス・経営学部 | C2: 地域ﾃﾞｻﾞｲﾝ科学部 | D2: 国際学部 | E2: 共同教育学部 | F2: 工学部 | G2: 農学部
B3: 未選択 | C3: ｺﾐｭﾆﾃｨﾃﾞｻﾞｲﾝ学科 | D3: 国際学科 | E3: 学校教育教員養成課程 （教育人間科学系） | F3: 基盤工学科 | G3: 生物資源科学科 | I3: 有 | J3: （国際学部）外国語臨地演習 マレーシア英語研修（渡航）
B4: データサイエンス学系 | C4: 建築都市ﾃﾞｻﾞｲﾝ学科 | E4: 学校教育教員養成課程 （人文社会系） | G4: 応用生命化学科 | I4: 無 | J4: （国際学部）外国語臨地演習 マレーシア英語研修（オンライン）
B5: 経営学系 | C5: 社会基盤ﾃﾞｻﾞｲﾝ学科 | E5: 学校教育教員養成課程 （自然科学系） | G5: 農業環境工学科 | J5: （国際学部）外国語臨地演習 オーストラリア英語研修
B6: データサイエンス 経営学科 | E6: 学校教育教員養成課程 （芸術・生活・健康系） | G6: 農業経済学科 | J6: （国際学部）外国語臨地演習 カナダ英語研修
G7: 森林科学科 | J7: （国際学部）外国語臨地演習 中国語研修
G8: フロンティア食品科学科 | J8: （国際学部）外国語臨地演習 スペイン語研修
G9: 生物生産イノベーション科学科 | J9: （他の学部）海外英語研修 マレーシア英語研修（渡航）
G10: 環境システム科学科 | J10: （他の学部）海外英語研修 マレーシア英語研修（オンライン）
G11: エコロジカル社会経済学科 | J11: （他の学部）海外英語研修 オーストラリア英語研修
J12: （他の学部）海外英語研修 カナダ英語研修

Sheet 大学使用欄
A2: ※大学の事務局で使用します。自動入力になっていますので、このシートには何も入力しないでください。
A4: 氏 | B4: 名 | C4: かな（氏） | D4: かな（名） | E4: Family NAME | F4: First NAME | G4: パスポート 有効期限 | H4: 学部 | I4: 学科 | J4: 学年 | K4: 学籍番号 | L4: 国籍 | M4: 性別 | N4: 生年月日 | O4: 出発時の年齢 | P4: TOEIC | Q4: GPA | R4: 経験の有無 | S4: JASSO希望の有無 | T4: 助成金希望の有無 | U4: 参加した研修名 | V4: leaning+1 登録科目数 | W4: 携帯 | X4: PCアドレス | Y4: 住所
A5: =参加申請書!E6 -> 0 | B5: =参加申請書!J6 -> 0 | C5: =参加申請書!E5 -> 0 | D5: =参加申請書!J5 -> 0 | E5: =参加申請書!E7 -> 0 | F5: =参加申請書!J7 -> 0 | G5: =参加申請書!L12 -> 0 | H5: =参加申請書!E10 -> 農学部 | I5: =参加申請書!K10 -> 0 | J5: =参加申請書!J11 -> 0 | K5: =参加申請書!E11 -> 0 | L5: =参加申請書!$E12 -> 0 | M5: =参加申請書!N8 -> 0 | N5: =参加申請書!E8 -> 0 | O5: =参加申請書!L8 -> 127 | P5: =参加申請書!L11 -> 0 | Q5: =参加申請書!N11 -> 0 | R5: =参加申請書!E32 -> 0 | S5: =参加申請書!E34 -> 0 | T5: =参加申請書!E36 -> 0 | U5: =参加申請書!K32 -> 0 | V5: =参加申請書!M17 -> 0 | W5: =参加申請書!F14 -> 0 | X5: =参加申請書!F16 -> 0 | Y5: =参加申請書!F13 -> 0
